BEGIN:VCALENDAR
VERSION:2.0
PRODID:-//Classic Suzuki Club Sweden - ECPv6.15.20//NONSGML v1.0//EN
CALSCALE:GREGORIAN
METHOD:PUBLISH
X-WR-CALNAME:Classic Suzuki Club Sweden
X-ORIGINAL-URL:https://www.classicsuzuki.com/wp
X-WR-CALDESC:Händelser för Classic Suzuki Club Sweden
REFRESH-INTERVAL;VALUE=DURATION:PT1H
X-Robots-Tag:noindex
X-PUBLISHED-TTL:PT1H
BEGIN:VTIMEZONE
TZID:Europe/Stockholm
BEGIN:DAYLIGHT
TZOFFSETFROM:+0100
TZOFFSETTO:+0200
TZNAME:CEST
DTSTART:20240331T010000
END:DAYLIGHT
BEGIN:STANDARD
TZOFFSETFROM:+0200
TZOFFSETTO:+0100
TZNAME:CET
DTSTART:20241027T010000
END:STANDARD
BEGIN:DAYLIGHT
TZOFFSETFROM:+0100
TZOFFSETTO:+0200
TZNAME:CEST
DTSTART:20250330T010000
END:DAYLIGHT
BEGIN:STANDARD
TZOFFSETFROM:+0200
TZOFFSETTO:+0100
TZNAME:CET
DTSTART:20251026T010000
END:STANDARD
BEGIN:DAYLIGHT
TZOFFSETFROM:+0100
TZOFFSETTO:+0200
TZNAME:CEST
DTSTART:20260329T010000
END:DAYLIGHT
BEGIN:STANDARD
TZOFFSETFROM:+0200
TZOFFSETTO:+0100
TZNAME:CET
DTSTART:20261025T010000
END:STANDARD
END:VTIMEZONE
BEGIN:VEVENT
DTSTART;TZID=Europe/Stockholm:20250517T130000
DTEND;TZID=Europe/Stockholm:20250517T150000
DTSTAMP:20260419T181840
CREATED:20250216T182609Z
LAST-MODIFIED:20250216T182609Z
UID:3010-1747486800-1747494000@www.classicsuzuki.com
SUMMARY:CSCS Vårtur/Vårträff 2025
DESCRIPTION:Vi fortsätter traditionen! \nDock ännu en ny plats i år! \nLördag den 17:de maj Samlas vi i Bålsta vid Röda rummet Cafe & Second hand.\nVi möts kl 13:00 för en fika och lite samvaro. \nDamma av din gamla hoj och häng på! \nBor du i mellan Sverige eller längre bort så samla ihop alla polare och ta en tur så ses vi vid fiket.\nHar inte polarna nån Suzuki eller klassikerhoj kan de väl få följa med ändå?
URL:https://www.classicsuzuki.com/wp/event/cscs-vartur-vartraff-2025/
LOCATION:Röda rummet Cafe & Second hand\, Enköpingsvägen 10\, Bålsta\, 74652
CATEGORIES:Åkning,Klubben,Träffar
ORGANIZER;CN="Classic Suzuki Club Sweden":MAILTO:info@classicsuzuki.com
END:VEVENT
BEGIN:VEVENT
DTSTART;VALUE=DATE:20250523
DTEND;VALUE=DATE:20250526
DTSTAMP:20260419T181840
CREATED:20241223T203225Z
LAST-MODIFIED:20250504T052053Z
UID:2945-1747958400-1748217599@www.classicsuzuki.com
SUMMARY:Classic Meet 2025 (Norge)
DESCRIPTION:Den trevliga träffen Classic meet som anordnas av CSCN är tillbaka 2025. \nPlatsen är som vanligt Bö camping i Telemark. \n  \n 
URL:https://www.classicsuzuki.com/wp/event/classic-meet-2025-norge/
LOCATION:Bø Camping\, Lifjellvegen 51\, Bø I Telemark\, 3804\, Norge
CATEGORIES:Träffar
END:VEVENT
BEGIN:VEVENT
DTSTART;TZID=Europe/Stockholm:20250528T180000
DTEND;TZID=Europe/Stockholm:20250528T200000
DTSTAMP:20260419T181840
CREATED:20190325T102303Z
LAST-MODIFIED:20250504T051006Z
UID:1104-1748455200-1748462400@www.classicsuzuki.com
SUMMARY:SMC Gävleborg - Gökottan 2025
DESCRIPTION:Förra året så ställdes Gökottan in på grund av snö! Men i år håller vi tummarna för att den blir av\, den ligger ju lite senare i maj än vanligt\, så vi har goda förhoppningar. \nMan tar sin hoj\, kör till Lingbo\, svänger av vid Lingbo kyrka och några hundra meter fram så svänger man in och parkerar sin hoj. Som mest har det varit över 500 hojar på plats. Gökottan har firats på detta sätt i snart 40 år\, säga vad man vill om oss knuttar\, men vi håller på traditionerna! \nVäl på plats så finns något att stoppa i magen\, ta en kopp kaffe och surra med folk. Glöm för guds skull inte att titta på alla fina mc som är på plats. Någon form av tävling i form av tipsrunda\, quiz eller liknande blir det också. \nAlla är hjärtligt välkomna! \n  \n  \n  \nVägbeskrivning\nSväng in vid kyrkan i Lingbo\, efter ca 300m så sväng höger och där lovar vi att du hittar vägen.
URL:https://www.classicsuzuki.com/wp/event/smc-gavleborg-gokotta/
LOCATION:Lingbo\, Näsvägen\, Lingbo\, Sverige
END:VEVENT
BEGIN:VEVENT
DTSTART;TZID=Europe/Stockholm:20250529T100000
DTEND;TZID=Europe/Stockholm:20250529T170000
DTSTAMP:20260419T181840
CREATED:20240214T081131Z
LAST-MODIFIED:20250418T054036Z
UID:2425-1748512800-1748538000@www.classicsuzuki.com
SUMMARY:Valborundan 2025
DESCRIPTION:
URL:https://www.classicsuzuki.com/wp/event/valborundan-2024/
LOCATION:Rörberg\, Motorstadion Rörberg\, Valbo\, Sverige
END:VEVENT
BEGIN:VEVENT
DTSTART;VALUE=DATE:20250530
DTEND;VALUE=DATE:20250602
DTSTAMP:20260419T181840
CREATED:20241223T203748Z
LAST-MODIFIED:20241223T203748Z
UID:2947-1748563200-1748822399@www.classicsuzuki.com
SUMMARY:Tyske GS KLUB TRÆF
DESCRIPTION:I år kommer platsen vara vid Karlsruhe
URL:https://www.classicsuzuki.com/wp/event/tyske-gs-klub-traef/
END:VEVENT
BEGIN:VEVENT
DTSTART;TZID=Europe/Stockholm:20250531T090000
DTEND;TZID=Europe/Stockholm:20250531T150000
DTSTAMP:20260419T181840
CREATED:20250418T052603Z
LAST-MODIFIED:20250418T052603Z
UID:3066-1748682000-1748703600@www.classicsuzuki.com
SUMMARY:Bike 80's Revival Classic Day
DESCRIPTION:För tredje året i rad arrangerar gruppen Bike 80´s Revival Classic Day och Hojlördag. Classic Day står för att välkomna alla klassiska/ ikoniska hojar men också cafe\, choppers och 90 talets plastraketer.Hojlördag är för att välkomna alla bikers oavsett år och modell.\nAtt Classic Day lockar hojarna ifrån 80 -talet med sin stilrena design och enkla råhet är ingen slump. Gruppen Bike80`s Revival har 1200 medlemmar i landet där vi tillsammans förvaltar ca 4000 hojar.\nUnder dagen njuter ni av härligt umgänge\, klassiska/ikoniska hojar och av Tykarpsgrottans fantastiska servering med grill och café .\nArrangemanget är ett samarbete mellan Tykarpsgrottan\, Hässleholm och Bike80s Revival.
URL:https://www.classicsuzuki.com/wp/event/bike-80s-revival-classic-day-2/
LOCATION:Tykarpsgrottan\, Tykarp 7137C\, Hässleholm\, 28192\, Sverige
ORGANIZER;CN="Magnus Engman":MAILTO:magnusengman@live.se
END:VEVENT
END:VCALENDAR