BEGIN:VCALENDAR
VERSION:2.0
PRODID:-//Classic Suzuki Club Sweden - ECPv6.15.20//NONSGML v1.0//EN
CALSCALE:GREGORIAN
METHOD:PUBLISH
X-WR-CALNAME:Classic Suzuki Club Sweden
X-ORIGINAL-URL:https://www.classicsuzuki.com/wp
X-WR-CALDESC:Händelser för Classic Suzuki Club Sweden
REFRESH-INTERVAL;VALUE=DURATION:PT1H
X-Robots-Tag:noindex
X-PUBLISHED-TTL:PT1H
BEGIN:VTIMEZONE
TZID:Europe/Stockholm
BEGIN:DAYLIGHT
TZOFFSETFROM:+0100
TZOFFSETTO:+0200
TZNAME:CEST
DTSTART:20240331T010000
END:DAYLIGHT
BEGIN:STANDARD
TZOFFSETFROM:+0200
TZOFFSETTO:+0100
TZNAME:CET
DTSTART:20241027T010000
END:STANDARD
BEGIN:DAYLIGHT
TZOFFSETFROM:+0100
TZOFFSETTO:+0200
TZNAME:CEST
DTSTART:20250330T010000
END:DAYLIGHT
BEGIN:STANDARD
TZOFFSETFROM:+0200
TZOFFSETTO:+0100
TZNAME:CET
DTSTART:20251026T010000
END:STANDARD
BEGIN:DAYLIGHT
TZOFFSETFROM:+0100
TZOFFSETTO:+0200
TZNAME:CEST
DTSTART:20260329T010000
END:DAYLIGHT
BEGIN:STANDARD
TZOFFSETFROM:+0200
TZOFFSETTO:+0100
TZNAME:CET
DTSTART:20261025T010000
END:STANDARD
END:VTIMEZONE
BEGIN:VEVENT
DTSTART;VALUE=DATE:20250131
DTEND;VALUE=DATE:20250203
DTSTAMP:20260419T181841
CREATED:20241121T120858Z
LAST-MODIFIED:20241121T120858Z
UID:2926-1738281600-1738540799@www.classicsuzuki.com
SUMMARY:Bikers Cruise 2025
DESCRIPTION:Vi drar till den Finska MC-mässan med Silja Serenade 31:a januari till 2:a februari 2025. \nPå resan till och från Helsingfors blir det ett fantastiskt drag med Eva Eastwood\, John Lindberg Trio\, Larz Kristerz och A date with Elvis. \nDu bokar på: \nBikers Cruise 2025 \neller så ringer du: 08-666 33 33 och uppger koden Bikers Cruise. \nBussen till mässan bokar du samtidigt som du bokar kryssningen. Välkomna ombord!! \n  \nDala Artist & Event AB\nKnihsgatan 21\n795 31 Rättvik
URL:https://www.classicsuzuki.com/wp/event/bikers-cruise-2025/
END:VEVENT
END:VCALENDAR