BEGIN:VCALENDAR
VERSION:2.0
PRODID:-//Classic Suzuki Club Sweden - ECPv6.15.20//NONSGML v1.0//EN
CALSCALE:GREGORIAN
METHOD:PUBLISH
X-ORIGINAL-URL:https://www.classicsuzuki.com/wp
X-WR-CALDESC:Händelser för Classic Suzuki Club Sweden
REFRESH-INTERVAL;VALUE=DURATION:PT1H
X-Robots-Tag:noindex
X-PUBLISHED-TTL:PT1H
BEGIN:VTIMEZONE
TZID:Europe/Stockholm
BEGIN:DAYLIGHT
TZOFFSETFROM:+0100
TZOFFSETTO:+0200
TZNAME:CEST
DTSTART:20230326T010000
END:DAYLIGHT
BEGIN:STANDARD
TZOFFSETFROM:+0200
TZOFFSETTO:+0100
TZNAME:CET
DTSTART:20231029T010000
END:STANDARD
BEGIN:DAYLIGHT
TZOFFSETFROM:+0100
TZOFFSETTO:+0200
TZNAME:CEST
DTSTART:20240331T010000
END:DAYLIGHT
BEGIN:STANDARD
TZOFFSETFROM:+0200
TZOFFSETTO:+0100
TZNAME:CET
DTSTART:20241027T010000
END:STANDARD
BEGIN:DAYLIGHT
TZOFFSETFROM:+0100
TZOFFSETTO:+0200
TZNAME:CEST
DTSTART:20250330T010000
END:DAYLIGHT
BEGIN:STANDARD
TZOFFSETFROM:+0200
TZOFFSETTO:+0100
TZNAME:CET
DTSTART:20251026T010000
END:STANDARD
END:VTIMEZONE
BEGIN:VEVENT
DTSTART;TZID=Europe/Stockholm:20240830T080000
DTEND;TZID=Europe/Stockholm:20240901T170000
DTSTAMP:20260420T005800
CREATED:20240705T214518Z
LAST-MODIFIED:20240705T214553Z
UID:2808-1725004800-1725210000@www.classicsuzuki.com
SUMMARY:Hösttur 30/8-1/9
DESCRIPTION:
URL:https://www.classicsuzuki.com/wp/event/hosttur-n/
LOCATION:Valle Camping Setesdal\, Kjellebergsvegen 22\, Valle\, 4747\, Norge
CATEGORIES:Träffar
END:VEVENT
BEGIN:VEVENT
DTSTART;TZID=Europe/Stockholm:20240830T090000
DTEND;TZID=Europe/Stockholm:20240901T170000
DTSTAMP:20260420T005800
CREATED:20240821T123725Z
LAST-MODIFIED:20240821T123725Z
UID:2852-1725008400-1725210000@www.classicsuzuki.com
SUMMARY:SM Roadracing - Falkenberg
DESCRIPTION:2024: 31/8 – 1/9\, Deltävling 4\, Final.
URL:https://www.classicsuzuki.com/wp/event/sm-roadracing-falkenberg/
LOCATION:Falkenbergs Motorbana\, HÄLLARP 308\, Falkenberg\, 31195\, Sweden
END:VEVENT
END:VCALENDAR