BEGIN:VCALENDAR
VERSION:2.0
PRODID:-//Classic Suzuki Club Sweden - ECPv6.15.20//NONSGML v1.0//EN
CALSCALE:GREGORIAN
METHOD:PUBLISH
X-ORIGINAL-URL:https://www.classicsuzuki.com/wp
X-WR-CALDESC:Händelser för Classic Suzuki Club Sweden
REFRESH-INTERVAL;VALUE=DURATION:PT1H
X-Robots-Tag:noindex
X-PUBLISHED-TTL:PT1H
BEGIN:VTIMEZONE
TZID:Europe/Stockholm
BEGIN:DAYLIGHT
TZOFFSETFROM:+0100
TZOFFSETTO:+0200
TZNAME:CEST
DTSTART:20230326T010000
END:DAYLIGHT
BEGIN:STANDARD
TZOFFSETFROM:+0200
TZOFFSETTO:+0100
TZNAME:CET
DTSTART:20231029T010000
END:STANDARD
BEGIN:DAYLIGHT
TZOFFSETFROM:+0100
TZOFFSETTO:+0200
TZNAME:CEST
DTSTART:20240331T010000
END:DAYLIGHT
BEGIN:STANDARD
TZOFFSETFROM:+0200
TZOFFSETTO:+0100
TZNAME:CET
DTSTART:20241027T010000
END:STANDARD
BEGIN:DAYLIGHT
TZOFFSETFROM:+0100
TZOFFSETTO:+0200
TZNAME:CEST
DTSTART:20250330T010000
END:DAYLIGHT
BEGIN:STANDARD
TZOFFSETFROM:+0200
TZOFFSETTO:+0100
TZNAME:CET
DTSTART:20251026T010000
END:STANDARD
END:VTIMEZONE
BEGIN:VEVENT
DTSTART;TZID=Europe/Stockholm:20240508T190000
DTEND;TZID=Europe/Stockholm:20240508T200000
DTSTAMP:20260420T070721
CREATED:20240214T080544Z
LAST-MODIFIED:20240507T202300Z
UID:2423-1715194800-1715198400@www.classicsuzuki.com
SUMMARY:"Inställt" Gökotta - SMC Gävleborg
DESCRIPTION:Information om träffen\n  \nInställt – Hänvisar till smc:s hemsida \nEn tradition som håller! Gökottan har nu arrangerats i över 30 år och lockar fortfarande flera hundra knuttar… \nVi träffas som vanligt nedanför Lingbo lägergård kl 19:00 (sväng in vid kyrkan i Lingbo). OBS! Då det nu är privatpersoner som äger lägergården så är infarten till träffen lite längre fram än vanligt. Det kommer framgå av vägvisning vart man ska svänga ner. \nSöderhamn MTT står för fikat och fixar med tipsrunda. \nVälkomna önskar SMC Gävleborg tillsammans med SMTT och BMCK. \n  \n  \nVägbeskrivning\nSväng in vid kyrkan i Lingbo\, därefter höger vid den gula Lägergården\, kör så långt ned du kan och parkera där.
URL:https://www.classicsuzuki.com/wp/event/gokotta-smc-gavleborg/
LOCATION:Lingbo\, Näsvägen\, Lingbo\, Sverige
END:VEVENT
BEGIN:VEVENT
DTSTART;TZID=Europe/Stockholm:20240518T090000
DTEND;TZID=Europe/Stockholm:20240518T160000
DTSTAMP:20260420T070721
CREATED:20240222T205534Z
LAST-MODIFIED:20240222T205534Z
UID:2451-1716022800-1716048000@www.classicsuzuki.com
SUMMARY:Bike 80's Revival Classic day
DESCRIPTION:Bike 80’s Revival presenterar för andra året Classic Day\, en dag fylld med allt från äldre veteranhojar\, ombyggt\, choppers mm till 90-talets färgglada plastraketer. Hojlördag ihop med Classic Day innebär att ALLA bikers är välkomna oavsett år och modell.\nEfter 2023 och den enorma uppslutningen på över 1000 hojar kommer vi dubbla ytorna för både Hojlördag och Classic Day.\nI samband med Classic Day uppmärksammar vi särskilt 80-talshojarna\, kraftpaket som med sin stilrena design och enkla råhet tilltalar förare såväl som åskådare.\nUnder dagen kan ni njuta av härligt umgänge\, klassiska och ikoniska hojar\, nygrillat och fika. Allt i trivsam miljö vid Tykarpsgrottan.\nHojlördag & Classic Day är ett samarbete mellan Bike 80’s revival och Tykarpsgrottan\, Hässleholm.\nVarmt välkomna!\nBRA ATT VETA\nNär: 18/5 2024\, Insläpp ifrån kl 09.00 Avslut 16.00\nGrupper som vill stå samlade kommer tidigt!\nVar: Tykarpsgrottan\, Hässleholm.\nIngen föranmälan krävs\, deltagandet är kostnadsfritt.\nBilar parkerar på separat parkering.\nMat\, dryck och fika finns till försäljning.\nPublikt evenemang med fri entré (gäller ej gruvan).\nInfo: Magnus Engman\nmagnusengman@live.se
URL:https://www.classicsuzuki.com/wp/event/bike-80s-revival-classic-day/
LOCATION:Tykarpsgrottan\, Tykarp 7137C\, Hässleholm\, 28192\, Sverige
ORGANIZER;CN="Magnus Engman":MAILTO:magnusengman@live.se
END:VEVENT
BEGIN:VEVENT
DTSTART;TZID=Europe/Stockholm:20240519T130000
DTEND;TZID=Europe/Stockholm:20240519T150000
DTSTAMP:20260420T070721
CREATED:20240214T084539Z
LAST-MODIFIED:20240214T084539Z
UID:2434-1716123600-1716130800@www.classicsuzuki.com
SUMMARY:CSCS - Vårtur/Vårträff 2024
DESCRIPTION:Vi fortsätter traditionen! \nDock ny plats för i år då Chiefland håller på att renoveras/byggas om. \n  \n19:de maj Samlas vi vid det så kallade Busscafet i Vinnersjö utanför Hedesunda.\nDär finns kanske Sveriges godaste hamburgare med lokalproducerade råvaror samt en massa ”godfika”.\nVi avnjuter mat\, fika och gemenskap vid de 2 gamla bussarna som fungerar som cafe och butik \nDamma av din gamla hoj och häng på! \nBor du i Gästrikland\, Hälsingland\, Dalarna\, Uppland eller ännu längre bort så samla ihop alla polare och ta en tur så möts vi på en fika och surrar lite.\nHar inte polarna nån Suzuki eller klassikerhoj kan de väl få följa med ändå?
URL:https://www.classicsuzuki.com/wp/event/cscs-vartur-vartraff-2024/
LOCATION:Vinnersjös Diversehandel\, Vinnersjövägen 173\, Hedesunda\, 81895\, Sverige
ORGANIZER;CN="Classic Suzuki Club Sweden":MAILTO:info@classicsuzuki.com
END:VEVENT
BEGIN:VEVENT
DTSTART;VALUE=DATE:20240524
DTEND;VALUE=DATE:20240527
DTSTAMP:20260420T070721
CREATED:20240214T082046Z
LAST-MODIFIED:20240214T082600Z
UID:2430-1716508800-1716767999@www.classicsuzuki.com
SUMMARY:Classic meet 2024 (Norge)
DESCRIPTION:  \nDen trevliga träffen Classic meet som anordnas av CSCN är tillbaka efter coronapandemin. \nPlatsen är åter Bö camping i Telemark. \nKan vi bli några Svenskar 2024? \n 
URL:https://www.classicsuzuki.com/wp/event/classic-meet-2024-norge/
LOCATION:Bø Camping\, Lifjellvegen 51\, Bø I Telemark\, 3804\, Norge
END:VEVENT
END:VCALENDAR