BEGIN:VCALENDAR
VERSION:2.0
PRODID:-//Classic Suzuki Club Sweden - ECPv6.15.20//NONSGML v1.0//EN
CALSCALE:GREGORIAN
METHOD:PUBLISH
X-ORIGINAL-URL:https://www.classicsuzuki.com/wp
X-WR-CALDESC:Händelser för Classic Suzuki Club Sweden
REFRESH-INTERVAL;VALUE=DURATION:PT1H
X-Robots-Tag:noindex
X-PUBLISHED-TTL:PT1H
BEGIN:VTIMEZONE
TZID:Europe/Stockholm
BEGIN:DAYLIGHT
TZOFFSETFROM:+0100
TZOFFSETTO:+0200
TZNAME:CEST
DTSTART:20220327T010000
END:DAYLIGHT
BEGIN:STANDARD
TZOFFSETFROM:+0200
TZOFFSETTO:+0100
TZNAME:CET
DTSTART:20221030T010000
END:STANDARD
BEGIN:DAYLIGHT
TZOFFSETFROM:+0100
TZOFFSETTO:+0200
TZNAME:CEST
DTSTART:20230326T010000
END:DAYLIGHT
BEGIN:STANDARD
TZOFFSETFROM:+0200
TZOFFSETTO:+0100
TZNAME:CET
DTSTART:20231029T010000
END:STANDARD
BEGIN:DAYLIGHT
TZOFFSETFROM:+0100
TZOFFSETTO:+0200
TZNAME:CEST
DTSTART:20240331T010000
END:DAYLIGHT
BEGIN:STANDARD
TZOFFSETFROM:+0200
TZOFFSETTO:+0100
TZNAME:CET
DTSTART:20241027T010000
END:STANDARD
END:VTIMEZONE
BEGIN:VEVENT
DTSTART;TZID=Europe/Stockholm:20230807T180000
DTEND;TZID=Europe/Stockholm:20230807T210000
DTSTAMP:20260422T183644
CREATED:20230322T190124Z
LAST-MODIFIED:20230322T190124Z
UID:2123-1691431200-1691442000@www.classicsuzuki.com
SUMMARY:Classic Motor Monday - Mo Bygdegård
DESCRIPTION:Hälsinglands största och bästa träff för dig som älskar bilar och motorcyklar!\nMåndagar kl 18.00-21.00 under juni-juli-augusti. Start den 19 juni\, avslut den 21 augusti\, träffas vi på Mo Bygdegård belägen längs väg 50 mellan Bollnäs och Söderhamn för en Classic Motor Monday.
URL:https://www.classicsuzuki.com/wp/event/classic-motor-monday-mo-bygdegard-8/
LOCATION:Mo hembyggdsgård\, Mo Bygdegård\, Florhed 859\, Söderhamn\, 82693\, Sverige
CATEGORIES:Träffar
END:VEVENT
BEGIN:VEVENT
DTSTART;TZID=Europe/Stockholm:20230814T180000
DTEND;TZID=Europe/Stockholm:20230814T210000
DTSTAMP:20260422T183644
CREATED:20230322T190214Z
LAST-MODIFIED:20230322T190214Z
UID:2125-1692036000-1692046800@www.classicsuzuki.com
SUMMARY:Classic Motor Monday - Mo Bygdegård
DESCRIPTION:Hälsinglands största och bästa träff för dig som älskar bilar och motorcyklar!\nMåndagar kl 18.00-21.00 under juni-juli-augusti. Start den 19 juni\, avslut den 21 augusti\, träffas vi på Mo Bygdegård belägen längs väg 50 mellan Bollnäs och Söderhamn för en Classic Motor Monday.
URL:https://www.classicsuzuki.com/wp/event/classic-motor-monday-mo-bygdegard-9/
LOCATION:Mo hembyggdsgård\, Mo Bygdegård\, Florhed 859\, Söderhamn\, 82693\, Sverige
CATEGORIES:Träffar
END:VEVENT
BEGIN:VEVENT
DTSTART;TZID=Europe/Stockholm:20230821T180000
DTEND;TZID=Europe/Stockholm:20230821T210000
DTSTAMP:20260422T183644
CREATED:20230322T190346Z
LAST-MODIFIED:20230322T190346Z
UID:2127-1692640800-1692651600@www.classicsuzuki.com
SUMMARY:Classic Motor Monday - Mo Bygdegård
DESCRIPTION:Hälsinglands största och bästa träff för dig som älskar bilar och motorcyklar!\nMåndagar kl 18.00-21.00 under juni-juli-augusti. Start den 19 juni\, avslut den 21 augusti\, träffas vi på Mo Bygdegård belägen längs väg 50 mellan Bollnäs och Söderhamn för en Classic Motor Monday.
URL:https://www.classicsuzuki.com/wp/event/classic-motor-monday-mo-bygdegard-10/
LOCATION:Mo hembyggdsgård\, Mo Bygdegård\, Florhed 859\, Söderhamn\, 82693\, Sverige
CATEGORIES:Träffar
END:VEVENT
BEGIN:VEVENT
DTSTART;TZID=Europe/Stockholm:20230826T130000
DTEND;TZID=Europe/Stockholm:20230826T170000
DTSTAMP:20260422T183644
CREATED:20221220T184646Z
LAST-MODIFIED:20230825T111151Z
UID:2035-1693054800-1693069200@www.classicsuzuki.com
SUMMARY:'Inställt' MC-Dag Hedesunda 2023
DESCRIPTION:Liten dagträff öppen för alla hojåkare.\nFör nionde gången anordnar Henrik Söder i samarbete med Classic Suzuki Club Sweden en liten träff i Hedesunda\, Gästrikland\nSista lördagen i augusti körs traditionsenligt en gemensam tur på 15-20 mil. \nDet brukar bli ett par stopp med fika och eventuellt mat efter vägen.
URL:https://www.classicsuzuki.com/wp/event/mc-dag-hedesunda-2023/
LOCATION:Torget\, Hedesunda\, Skolvägen 17\, Hedesunda\, 81845\, Sverige
ORGANIZER;CN="Henrik S":MAILTO:henrik-soder@outlook.com
END:VEVENT
END:VCALENDAR