BEGIN:VCALENDAR
VERSION:2.0
PRODID:-//Classic Suzuki Club Sweden - ECPv6.15.20//NONSGML v1.0//EN
CALSCALE:GREGORIAN
METHOD:PUBLISH
X-WR-CALNAME:Classic Suzuki Club Sweden
X-ORIGINAL-URL:https://www.classicsuzuki.com/wp
X-WR-CALDESC:Händelser för Classic Suzuki Club Sweden
REFRESH-INTERVAL;VALUE=DURATION:PT1H
X-Robots-Tag:noindex
X-PUBLISHED-TTL:PT1H
BEGIN:VTIMEZONE
TZID:Europe/Stockholm
BEGIN:DAYLIGHT
TZOFFSETFROM:+0100
TZOFFSETTO:+0200
TZNAME:CEST
DTSTART:20250330T010000
END:DAYLIGHT
BEGIN:STANDARD
TZOFFSETFROM:+0200
TZOFFSETTO:+0100
TZNAME:CET
DTSTART:20251026T010000
END:STANDARD
BEGIN:DAYLIGHT
TZOFFSETFROM:+0100
TZOFFSETTO:+0200
TZNAME:CEST
DTSTART:20260329T010000
END:DAYLIGHT
BEGIN:STANDARD
TZOFFSETFROM:+0200
TZOFFSETTO:+0100
TZNAME:CET
DTSTART:20261025T010000
END:STANDARD
BEGIN:DAYLIGHT
TZOFFSETFROM:+0100
TZOFFSETTO:+0200
TZNAME:CEST
DTSTART:20270328T010000
END:DAYLIGHT
BEGIN:STANDARD
TZOFFSETFROM:+0200
TZOFFSETTO:+0100
TZNAME:CET
DTSTART:20271031T010000
END:STANDARD
END:VTIMEZONE
BEGIN:VEVENT
DTSTART;TZID=Europe/Stockholm:20260328T100000
DTEND;TZID=Europe/Stockholm:20260328T120000
DTSTAMP:20260419T212514
CREATED:20250216T183448Z
LAST-MODIFIED:20260305T160829Z
UID:3014-1774692000-1774699200@www.classicsuzuki.com
SUMMARY:CSCS - FÖRENINGSSTÄMMA (Årsmöte) 2026
DESCRIPTION:  \n KALLELSE TILL FÖRENINGSSTÄMMA (Årsmöte) \nFöreningsstämma år 2026 äger rum på nätet.\nNi är välkomna kl. 10:00 Lördagen den 28 mars 2025.\nKlubben håller mötet på nätet via Zoom eller Teams. \nDet krävs ingen förhandsanmälan\, det räcker med att klicka på länken som kommer att finnas på hemsidan classicsuzuki.com eller längst ner i den kallelse som kommer att mailas ut. \nSkicka förslag/motion till årsmötet till ordförande senast den 17 mars (john.bjork@jolit.se). \nÅrsmöteshandlingar kommer att finnas tillgängliga på hemsidan. Kontrollera er inloggningsinformation i god tid innan mötet. \nVälkommen att påverka klubbens utveckling och gör Din röst hörd! \n\nVÄLKOMNA! \nStyrelsen
URL:https://www.classicsuzuki.com/wp/event/cscs-foreningsstamma-arsmote-2026/
LOCATION:OnLine\, Zoom
CATEGORIES:Klubben,Styrelsen
ORGANIZER;CN="Classic Suzuki Club Sweden":MAILTO:info@classicsuzuki.com
END:VEVENT
END:VCALENDAR