BEGIN:VCALENDAR
VERSION:2.0
PRODID:-//Classic Suzuki Club Sweden - ECPv6.15.20//NONSGML v1.0//EN
CALSCALE:GREGORIAN
METHOD:PUBLISH
X-WR-CALNAME:Classic Suzuki Club Sweden
X-ORIGINAL-URL:https://www.classicsuzuki.com/wp
X-WR-CALDESC:Händelser för Classic Suzuki Club Sweden
REFRESH-INTERVAL;VALUE=DURATION:PT1H
X-Robots-Tag:noindex
X-PUBLISHED-TTL:PT1H
BEGIN:VTIMEZONE
TZID:Europe/Stockholm
BEGIN:DAYLIGHT
TZOFFSETFROM:+0100
TZOFFSETTO:+0200
TZNAME:CEST
DTSTART:20250330T010000
END:DAYLIGHT
BEGIN:STANDARD
TZOFFSETFROM:+0200
TZOFFSETTO:+0100
TZNAME:CET
DTSTART:20251026T010000
END:STANDARD
BEGIN:DAYLIGHT
TZOFFSETFROM:+0100
TZOFFSETTO:+0200
TZNAME:CEST
DTSTART:20260329T010000
END:DAYLIGHT
BEGIN:STANDARD
TZOFFSETFROM:+0200
TZOFFSETTO:+0100
TZNAME:CET
DTSTART:20261025T010000
END:STANDARD
BEGIN:DAYLIGHT
TZOFFSETFROM:+0100
TZOFFSETTO:+0200
TZNAME:CEST
DTSTART:20270328T010000
END:DAYLIGHT
BEGIN:STANDARD
TZOFFSETFROM:+0200
TZOFFSETTO:+0100
TZNAME:CET
DTSTART:20271031T010000
END:STANDARD
END:VTIMEZONE
BEGIN:VEVENT
DTSTART;TZID=Europe/Stockholm:20260523T090000
DTEND;TZID=Europe/Stockholm:20260523T160000
DTSTAMP:20260419T205333
CREATED:20260219T193817Z
LAST-MODIFIED:20260219T193901Z
UID:3238-1779526800-1779552000@www.classicsuzuki.com
SUMMARY:Bike80sRevival Classic Day
DESCRIPTION:För fjärde året i rad arrangerar gruppen Bike 80´s Revival Classic Day och Hojlördag.\nClassic Day står för att välkomna alla klassiska/ ikoniska hojar men också cafe\, choppers och 90 talets plastraketer.Hojlördag är för att välkomna alla bikers oavsett år och modell.\nAtt Classic Day lockar hojarna ifrån 80 -talet med sin stilrena design och enkla råhet är ingen slump.\nGruppen Bike80`s Revival har 1400 medlemmar i landet där vi tillsammans förvaltar ca 4000 hojar.\nUnder dagen njuter ni av härligt umgänge\, klassiska/ikoniska hojar och av Tykarpsgrottans fantastiska servering med grill och café .\nArrangemanget är ett samarbete mellan Tykarpsgrottan\, Hässleholm och Bike80s Revival.\n\nBRA ATT VETANär: 23 Maj 2026Var: Tykarpsgrottan HässleholmInsläpp: 09.00Avslut: ca15.00Inträde: frittAnmälan: IngenWC: JaServering: JaYta: gräsInfo: Magnus Engman mail: magnusengman@live.se
URL:https://www.classicsuzuki.com/wp/event/bike80srevival-classic-day/
LOCATION:Tykarpsgrottan\, Tykarp 7137C\, Hässleholm\, 28192\, Sverige
CATEGORIES:Åkning,Träffar
ORGANIZER;CN="Magnus Engman":MAILTO:magnusengman@live.se
END:VEVENT
END:VCALENDAR