BEGIN:VCALENDAR
VERSION:2.0
PRODID:-//Classic Suzuki Club Sweden - ECPv6.15.20//NONSGML v1.0//EN
CALSCALE:GREGORIAN
METHOD:PUBLISH
X-WR-CALNAME:Classic Suzuki Club Sweden
X-ORIGINAL-URL:https://www.classicsuzuki.com/wp
X-WR-CALDESC:Händelser för Classic Suzuki Club Sweden
REFRESH-INTERVAL;VALUE=DURATION:PT1H
X-Robots-Tag:noindex
X-PUBLISHED-TTL:PT1H
BEGIN:VTIMEZONE
TZID:Europe/Stockholm
BEGIN:DAYLIGHT
TZOFFSETFROM:+0100
TZOFFSETTO:+0200
TZNAME:CEST
DTSTART:20250330T010000
END:DAYLIGHT
BEGIN:STANDARD
TZOFFSETFROM:+0200
TZOFFSETTO:+0100
TZNAME:CET
DTSTART:20251026T010000
END:STANDARD
BEGIN:DAYLIGHT
TZOFFSETFROM:+0100
TZOFFSETTO:+0200
TZNAME:CEST
DTSTART:20260329T010000
END:DAYLIGHT
BEGIN:STANDARD
TZOFFSETFROM:+0200
TZOFFSETTO:+0100
TZNAME:CET
DTSTART:20261025T010000
END:STANDARD
BEGIN:DAYLIGHT
TZOFFSETFROM:+0100
TZOFFSETTO:+0200
TZNAME:CEST
DTSTART:20270328T010000
END:DAYLIGHT
BEGIN:STANDARD
TZOFFSETFROM:+0200
TZOFFSETTO:+0100
TZNAME:CET
DTSTART:20271031T010000
END:STANDARD
END:VTIMEZONE
BEGIN:VEVENT
DTSTART;VALUE=DATE:20260130
DTEND;VALUE=DATE:20260202
DTSTAMP:20260419T221410
CREATED:20251231T145916Z
LAST-MODIFIED:20251231T145916Z
UID:3209-1769731200-1769990399@www.classicsuzuki.com
SUMMARY:MP 26 Motorcycle Show (Finland)
DESCRIPTION:MP 26 Motorcycle Show brings the motorcycle community together from 30 January to 1 February 2026 at Helsinki Expo and Convention Centre. \nThe largest motorcycle event in the Nordics showcases the latest models from motorbikes to mopeds and electric-assisted bicycles\, along with a wide range of gear and accessories. The event also features the Petrol Circus Custom Bike Show\, presenting expertly built motorcycles\, the hugely popular MP Jonnela\, a dedicated area for under 18s and an action-packed Motoball tournament.
URL:https://www.classicsuzuki.com/wp/event/mp-26-motorcycle-show-finland/
LOCATION:Helsinki Expo and Convention Centre\, Messuaukio 1\, Helsinki\, 00520\, Finland
END:VEVENT
BEGIN:VEVENT
DTSTART;TZID=Europe/Stockholm:20260131T130000
DTEND;TZID=Europe/Stockholm:20260131T170000
DTSTAMP:20260419T221410
CREATED:20251231T150557Z
LAST-MODIFIED:20251231T150557Z
UID:3216-1769864400-1769878800@www.classicsuzuki.com
SUMMARY:Kaffemøder
DESCRIPTION:Kaffemøde hos Peter og Mia
URL:https://www.classicsuzuki.com/wp/event/kaffemoder/
LOCATION:Peter og Mia\, Skovhøjen 3\, Ebeltoft\, 8400\, Denmark
CATEGORIES:Träffar
END:VEVENT
END:VCALENDAR