BEGIN:VCALENDAR
VERSION:2.0
PRODID:-//Classic Suzuki Club Sweden - ECPv6.15.20//NONSGML v1.0//EN
CALSCALE:GREGORIAN
METHOD:PUBLISH
X-WR-CALNAME:Classic Suzuki Club Sweden
X-ORIGINAL-URL:https://www.classicsuzuki.com/wp
X-WR-CALDESC:Händelser för Classic Suzuki Club Sweden
REFRESH-INTERVAL;VALUE=DURATION:PT1H
X-Robots-Tag:noindex
X-PUBLISHED-TTL:PT1H
BEGIN:VTIMEZONE
TZID:Europe/Stockholm
BEGIN:DAYLIGHT
TZOFFSETFROM:+0100
TZOFFSETTO:+0200
TZNAME:CEST
DTSTART:20240331T010000
END:DAYLIGHT
BEGIN:STANDARD
TZOFFSETFROM:+0200
TZOFFSETTO:+0100
TZNAME:CET
DTSTART:20241027T010000
END:STANDARD
BEGIN:DAYLIGHT
TZOFFSETFROM:+0100
TZOFFSETTO:+0200
TZNAME:CEST
DTSTART:20250330T010000
END:DAYLIGHT
BEGIN:STANDARD
TZOFFSETFROM:+0200
TZOFFSETTO:+0100
TZNAME:CET
DTSTART:20251026T010000
END:STANDARD
BEGIN:DAYLIGHT
TZOFFSETFROM:+0100
TZOFFSETTO:+0200
TZNAME:CEST
DTSTART:20260329T010000
END:DAYLIGHT
BEGIN:STANDARD
TZOFFSETFROM:+0200
TZOFFSETTO:+0100
TZNAME:CET
DTSTART:20261025T010000
END:STANDARD
END:VTIMEZONE
BEGIN:VEVENT
DTSTART;TZID=Europe/Stockholm:20250606T100000
DTEND;TZID=Europe/Stockholm:20250606T150000
DTSTAMP:20260419T205323
CREATED:20250504T053122Z
LAST-MODIFIED:20250527T075844Z
UID:3104-1749204000-1749222000@www.classicsuzuki.com
SUMMARY:Motorhistoriska dagen 2025
DESCRIPTION:Runt om i landet anordnas träffar och körningar denna dag.\nLåt Classic Suzuki Club Sweden synas\, rulla ut era klassiker och delta i något av dom. \n  \nVi år några från klubben som kommer att haka på Motorhistoriska sällskapet vid Edsberg. Häng på ni också!\nLäs mer här: (3) Motorhistoriska Dagen\, Sollentuna | Facebook \n”För de som vill\, är det samling vid Naturhistoriska Riksmuseet (Svante Arrhenius väg) från klockan 9. Avfärd mot Stallbacken vid Edsbergs slott i Sollentuna från kl 10. I slottsparken intill blir det nationaldagsfirande med aktiviteter för stora och små\, så ta med familjen!\nOBS! Följ parkeringsvakternas anvisningar vid målet\, bilar och motorcyklar ska ta olika vägartill sina respektive parkeringar.\nAlla är välkomna – ingen föranmälan.”
URL:https://www.classicsuzuki.com/wp/event/motorhistoriska-dagen/
LOCATION:Stallbacken Edsberg\, Landsnoravägen 10\, Sollentuna\, 19186\, Sweden
CATEGORIES:Åkning,Klubben,Träffar
ORGANIZER;CN="Motorhistoriska s%C3%A4llskapet i Sverige":MAILTO:info@mhs.se
END:VEVENT
END:VCALENDAR