BEGIN:VCALENDAR
VERSION:2.0
PRODID:-//Classic Suzuki Club Sweden - ECPv6.15.20//NONSGML v1.0//EN
CALSCALE:GREGORIAN
METHOD:PUBLISH
X-WR-CALNAME:Classic Suzuki Club Sweden
X-ORIGINAL-URL:https://www.classicsuzuki.com/wp
X-WR-CALDESC:Händelser för Classic Suzuki Club Sweden
REFRESH-INTERVAL;VALUE=DURATION:PT1H
X-Robots-Tag:noindex
X-PUBLISHED-TTL:PT1H
BEGIN:VTIMEZONE
TZID:Europe/Stockholm
BEGIN:DAYLIGHT
TZOFFSETFROM:+0100
TZOFFSETTO:+0200
TZNAME:CEST
DTSTART:20240331T010000
END:DAYLIGHT
BEGIN:STANDARD
TZOFFSETFROM:+0200
TZOFFSETTO:+0100
TZNAME:CET
DTSTART:20241027T010000
END:STANDARD
BEGIN:DAYLIGHT
TZOFFSETFROM:+0100
TZOFFSETTO:+0200
TZNAME:CEST
DTSTART:20250330T010000
END:DAYLIGHT
BEGIN:STANDARD
TZOFFSETFROM:+0200
TZOFFSETTO:+0100
TZNAME:CET
DTSTART:20251026T010000
END:STANDARD
BEGIN:DAYLIGHT
TZOFFSETFROM:+0100
TZOFFSETTO:+0200
TZNAME:CEST
DTSTART:20260329T010000
END:DAYLIGHT
BEGIN:STANDARD
TZOFFSETFROM:+0200
TZOFFSETTO:+0100
TZNAME:CET
DTSTART:20261025T010000
END:STANDARD
END:VTIMEZONE
BEGIN:VEVENT
DTSTART;TZID=Europe/Stockholm:20250528T180000
DTEND;TZID=Europe/Stockholm:20250528T200000
DTSTAMP:20260419T193452
CREATED:20190325T102303Z
LAST-MODIFIED:20250504T051006Z
UID:1104-1748455200-1748462400@www.classicsuzuki.com
SUMMARY:SMC Gävleborg - Gökottan 2025
DESCRIPTION:Förra året så ställdes Gökottan in på grund av snö! Men i år håller vi tummarna för att den blir av\, den ligger ju lite senare i maj än vanligt\, så vi har goda förhoppningar. \nMan tar sin hoj\, kör till Lingbo\, svänger av vid Lingbo kyrka och några hundra meter fram så svänger man in och parkerar sin hoj. Som mest har det varit över 500 hojar på plats. Gökottan har firats på detta sätt i snart 40 år\, säga vad man vill om oss knuttar\, men vi håller på traditionerna! \nVäl på plats så finns något att stoppa i magen\, ta en kopp kaffe och surra med folk. Glöm för guds skull inte att titta på alla fina mc som är på plats. Någon form av tävling i form av tipsrunda\, quiz eller liknande blir det också. \nAlla är hjärtligt välkomna! \n  \n  \n  \nVägbeskrivning\nSväng in vid kyrkan i Lingbo\, efter ca 300m så sväng höger och där lovar vi att du hittar vägen.
URL:https://www.classicsuzuki.com/wp/event/smc-gavleborg-gokotta/
LOCATION:Lingbo\, Näsvägen\, Lingbo\, Sverige
END:VEVENT
END:VCALENDAR