BEGIN:VCALENDAR
VERSION:2.0
PRODID:-//Classic Suzuki Club Sweden - ECPv6.15.20//NONSGML v1.0//EN
CALSCALE:GREGORIAN
METHOD:PUBLISH
X-WR-CALNAME:Classic Suzuki Club Sweden
X-ORIGINAL-URL:https://www.classicsuzuki.com/wp
X-WR-CALDESC:Händelser för Classic Suzuki Club Sweden
REFRESH-INTERVAL;VALUE=DURATION:PT1H
X-Robots-Tag:noindex
X-PUBLISHED-TTL:PT1H
BEGIN:VTIMEZONE
TZID:Europe/Stockholm
BEGIN:DAYLIGHT
TZOFFSETFROM:+0100
TZOFFSETTO:+0200
TZNAME:CEST
DTSTART:20240331T010000
END:DAYLIGHT
BEGIN:STANDARD
TZOFFSETFROM:+0200
TZOFFSETTO:+0100
TZNAME:CET
DTSTART:20241027T010000
END:STANDARD
BEGIN:DAYLIGHT
TZOFFSETFROM:+0100
TZOFFSETTO:+0200
TZNAME:CEST
DTSTART:20250330T010000
END:DAYLIGHT
BEGIN:STANDARD
TZOFFSETFROM:+0200
TZOFFSETTO:+0100
TZNAME:CET
DTSTART:20251026T010000
END:STANDARD
BEGIN:DAYLIGHT
TZOFFSETFROM:+0100
TZOFFSETTO:+0200
TZNAME:CEST
DTSTART:20260329T010000
END:DAYLIGHT
BEGIN:STANDARD
TZOFFSETFROM:+0200
TZOFFSETTO:+0100
TZNAME:CET
DTSTART:20261025T010000
END:STANDARD
END:VTIMEZONE
BEGIN:VEVENT
DTSTART;TZID=Europe/Stockholm:20250517T130000
DTEND;TZID=Europe/Stockholm:20250517T150000
DTSTAMP:20260419T193447
CREATED:20250216T182609Z
LAST-MODIFIED:20250216T182609Z
UID:3010-1747486800-1747494000@www.classicsuzuki.com
SUMMARY:CSCS Vårtur/Vårträff 2025
DESCRIPTION:Vi fortsätter traditionen! \nDock ännu en ny plats i år! \nLördag den 17:de maj Samlas vi i Bålsta vid Röda rummet Cafe & Second hand.\nVi möts kl 13:00 för en fika och lite samvaro. \nDamma av din gamla hoj och häng på! \nBor du i mellan Sverige eller längre bort så samla ihop alla polare och ta en tur så ses vi vid fiket.\nHar inte polarna nån Suzuki eller klassikerhoj kan de väl få följa med ändå?
URL:https://www.classicsuzuki.com/wp/event/cscs-vartur-vartraff-2025/
LOCATION:Röda rummet Cafe & Second hand\, Enköpingsvägen 10\, Bålsta\, 74652
CATEGORIES:Åkning,Klubben,Träffar
ORGANIZER;CN="Classic Suzuki Club Sweden":MAILTO:info@classicsuzuki.com
END:VEVENT
END:VCALENDAR