BEGIN:VCALENDAR
VERSION:2.0
PRODID:-//Classic Suzuki Club Sweden - ECPv6.15.20//NONSGML v1.0//EN
CALSCALE:GREGORIAN
METHOD:PUBLISH
X-ORIGINAL-URL:https://www.classicsuzuki.com/wp
X-WR-CALDESC:Händelser för Classic Suzuki Club Sweden
REFRESH-INTERVAL;VALUE=DURATION:PT1H
X-Robots-Tag:noindex
X-PUBLISHED-TTL:PT1H
BEGIN:VTIMEZONE
TZID:Europe/Stockholm
BEGIN:DAYLIGHT
TZOFFSETFROM:+0100
TZOFFSETTO:+0200
TZNAME:CEST
DTSTART:20230326T010000
END:DAYLIGHT
BEGIN:STANDARD
TZOFFSETFROM:+0200
TZOFFSETTO:+0100
TZNAME:CET
DTSTART:20231029T010000
END:STANDARD
BEGIN:DAYLIGHT
TZOFFSETFROM:+0100
TZOFFSETTO:+0200
TZNAME:CEST
DTSTART:20240331T010000
END:DAYLIGHT
BEGIN:STANDARD
TZOFFSETFROM:+0200
TZOFFSETTO:+0100
TZNAME:CET
DTSTART:20241027T010000
END:STANDARD
BEGIN:DAYLIGHT
TZOFFSETFROM:+0100
TZOFFSETTO:+0200
TZNAME:CEST
DTSTART:20250330T010000
END:DAYLIGHT
BEGIN:STANDARD
TZOFFSETFROM:+0200
TZOFFSETTO:+0100
TZNAME:CET
DTSTART:20251026T010000
END:STANDARD
END:VTIMEZONE
BEGIN:VEVENT
DTSTART;TZID=Europe/Stockholm:20240803T100000
DTEND;TZID=Europe/Stockholm:20240803T170000
DTSTAMP:20260420T034531
CREATED:20240630T131731Z
LAST-MODIFIED:20240630T131731Z
UID:2802-1722679200-1722704400@www.classicsuzuki.com
SUMMARY:Japan Klassik MC Træf
DESCRIPTION:I 2021 afholdte vi for første gang Japan Klassik MC Træf\, og det blev en stor succes.\nDerfor gentog vi arrangementet året efter\, og endnu flere deltog.\nDet er nu blevet en tradition\, og derfor holder vi det også i år.\nVores ønske er at samle nogle af de japanske motorcykler\, der er ældre end 1985\, både dem\, der kører til dagligt\, og dem\, der står henstillet i diverse garager.\nKom og vis dine motorcykler frem den 5. august 2023 på MC-Campfyn. Der vil være indskrivning mellem kl. 10 og kl. 14\, og derefter vil der være bedømmelse og præmieoverrækkelse ca. kl. 16.\nDer er over 19.000 gamle japanske motorcykler registreret i Danmark alene\, og vi har en opfattelse af\, at der er mange\, der gerne vil vise deres “gamle” kærlighed frem.\nHvis du har en eller flere motorcykler stående\, så kom og vis dem frem.\nOg hvis du bare vil kigge på de flotte maskiner\, er du også velkommen.\nMen hvis du vil være med i konkurrencen\, er det nødvendigt at tilmelde sig på dette link: \nTilmelding til Japansk klassisk træf \nDet er et endags arrangement\, men hvis nogen ønsker at gøre det til en hel weekend\, er der mulighed for overnatning\,\nsom kan bestilles på telefonnummer:  25120228/25536783\neller e-mail bb@mc-campyn.dk.\nDet samme gælder for aftensmaden lørdag aften.\nHvis man ikke er tilmeldt med en motorcykel\, men gerne vil deltage i spisning lørdag aften\, er det muligt at bestille mandag inden. \nKom frisk og hjælp os med at få en hyggelig og inspirerende dag. \nVenlig hilsen\, Tina og Kim
URL:https://www.classicsuzuki.com/wp/event/japan-klassik-mc-traef/
LOCATION:MC-Camp Fyn\, Rudmevej 3a\, Ringe\, 5750
END:VEVENT
END:VCALENDAR