BEGIN:VCALENDAR
VERSION:2.0
PRODID:-//Classic Suzuki Club Sweden - ECPv6.15.20//NONSGML v1.0//EN
CALSCALE:GREGORIAN
METHOD:PUBLISH
X-ORIGINAL-URL:https://www.classicsuzuki.com/wp
X-WR-CALDESC:Händelser för Classic Suzuki Club Sweden
REFRESH-INTERVAL;VALUE=DURATION:PT1H
X-Robots-Tag:noindex
X-PUBLISHED-TTL:PT1H
BEGIN:VTIMEZONE
TZID:Europe/Stockholm
BEGIN:DAYLIGHT
TZOFFSETFROM:+0100
TZOFFSETTO:+0200
TZNAME:CEST
DTSTART:20230326T010000
END:DAYLIGHT
BEGIN:STANDARD
TZOFFSETFROM:+0200
TZOFFSETTO:+0100
TZNAME:CET
DTSTART:20231029T010000
END:STANDARD
BEGIN:DAYLIGHT
TZOFFSETFROM:+0100
TZOFFSETTO:+0200
TZNAME:CEST
DTSTART:20240331T010000
END:DAYLIGHT
BEGIN:STANDARD
TZOFFSETFROM:+0200
TZOFFSETTO:+0100
TZNAME:CET
DTSTART:20241027T010000
END:STANDARD
BEGIN:DAYLIGHT
TZOFFSETFROM:+0100
TZOFFSETTO:+0200
TZNAME:CEST
DTSTART:20250330T010000
END:DAYLIGHT
BEGIN:STANDARD
TZOFFSETFROM:+0200
TZOFFSETTO:+0100
TZNAME:CET
DTSTART:20251026T010000
END:STANDARD
END:VTIMEZONE
BEGIN:VEVENT
DTSTART;VALUE=DATE:20240718
DTEND;VALUE=DATE:20240722
DTSTAMP:20260420T051839
CREATED:20240519T092942Z
LAST-MODIFIED:20240519T092942Z
UID:2748-1721260800-1721606399@www.classicsuzuki.com
SUMMARY:Kopparträffen nr 52
DESCRIPTION:The Twin Club\, TTC\, i Falun är Sveriges äldsta motorcykelklubb bildad 1956. \nI år arrangerar vi Kopparträffen nr 52\nDatum: 18-21 juli.\nPlats: Toftbyns fest- och badplats strax norr om Falun. \nI samband med Kopparträffen erbjuder TTC Er  att förlägga Er klubbs sommarträff hos oss. Lokal i vilken Ni kan ha klubbmöte finns om ni meddelar oss i förväg. \nI träffavgiften ingår live musik\, camping\, frukost\, riktiga toaletter och duschmöjligheter.\nMat och dryck serveras till humana priser. \nDet finns möjlighet till camping i tält\, husvagn eller husbil.\nDet finns även möjlighet att sova inomhus på golvet på egen luftmadrass i mån av plats.\nAlla märken av motorcyklar är välkomna. \nLördag eftermiddag arrangeras en uppskattad cortege genom centrala Falun som avslutas vid Falu Gruva. \nFör ytterligare information se www.thetwinclub.se \nKontakta vår träffgeneral Leif Carlsson tel: 070 537 11 56\nom Ni önskar boka lokal för Er klubbs enskilda möte under träffen eller önskar mer detaljerad information.
URL:https://www.classicsuzuki.com/wp/event/koppartraffen-nr-52/
LOCATION:Toftbyns festoch badplats\, Toftbyn\, 79024\, Sverige
CATEGORIES:Träffar
END:VEVENT
END:VCALENDAR