BEGIN:VCALENDAR
VERSION:2.0
PRODID:-//Classic Suzuki Club Sweden - ECPv6.15.20//NONSGML v1.0//EN
CALSCALE:GREGORIAN
METHOD:PUBLISH
X-WR-CALNAME:Classic Suzuki Club Sweden
X-ORIGINAL-URL:https://www.classicsuzuki.com/wp
X-WR-CALDESC:Händelser för Classic Suzuki Club Sweden
REFRESH-INTERVAL;VALUE=DURATION:PT1H
X-Robots-Tag:noindex
X-PUBLISHED-TTL:PT1H
BEGIN:VTIMEZONE
TZID:Europe/Stockholm
BEGIN:DAYLIGHT
TZOFFSETFROM:+0100
TZOFFSETTO:+0200
TZNAME:CEST
DTSTART:20230326T010000
END:DAYLIGHT
BEGIN:STANDARD
TZOFFSETFROM:+0200
TZOFFSETTO:+0100
TZNAME:CET
DTSTART:20231029T010000
END:STANDARD
BEGIN:DAYLIGHT
TZOFFSETFROM:+0100
TZOFFSETTO:+0200
TZNAME:CEST
DTSTART:20240331T010000
END:DAYLIGHT
BEGIN:STANDARD
TZOFFSETFROM:+0200
TZOFFSETTO:+0100
TZNAME:CET
DTSTART:20241027T010000
END:STANDARD
BEGIN:DAYLIGHT
TZOFFSETFROM:+0100
TZOFFSETTO:+0200
TZNAME:CEST
DTSTART:20250330T010000
END:DAYLIGHT
BEGIN:STANDARD
TZOFFSETFROM:+0200
TZOFFSETTO:+0100
TZNAME:CET
DTSTART:20251026T010000
END:STANDARD
END:VTIMEZONE
BEGIN:VEVENT
DTSTART;TZID=Europe/Stockholm:20240608T100000
DTEND;TZID=Europe/Stockholm:20240608T150000
DTSTAMP:20260420T070434
CREATED:20240222T204652Z
LAST-MODIFIED:20240222T204652Z
UID:2449-1717840800-1717858800@www.classicsuzuki.com
SUMMARY:Sportbike90srevival 2024
DESCRIPTION:En härlig dag för alla åldrar.\nEn dag fylld av motorcyklar och nostalgi utlovas.\nsport/touring motorcyklar från 80/90talet parkeras på torget.\nÖvriga modeller parkerar utanför torget.\nföretaget/klubbar kommer bjudas in men Mer info angående detta kommer.
URL:https://www.classicsuzuki.com/wp/event/sportbike90srevival-2024/
LOCATION:Torget i Nora\, Nora Torg 5\, Nora\, 71331\, Sverige
END:VEVENT
END:VCALENDAR