BEGIN:VCALENDAR
VERSION:2.0
PRODID:-//Classic Suzuki Club Sweden - ECPv6.15.20//NONSGML v1.0//EN
CALSCALE:GREGORIAN
METHOD:PUBLISH
X-WR-CALNAME:Classic Suzuki Club Sweden
X-ORIGINAL-URL:https://www.classicsuzuki.com/wp
X-WR-CALDESC:Händelser för Classic Suzuki Club Sweden
REFRESH-INTERVAL;VALUE=DURATION:PT1H
X-Robots-Tag:noindex
X-PUBLISHED-TTL:PT1H
BEGIN:VTIMEZONE
TZID:Europe/Stockholm
BEGIN:DAYLIGHT
TZOFFSETFROM:+0100
TZOFFSETTO:+0200
TZNAME:CEST
DTSTART:20230326T010000
END:DAYLIGHT
BEGIN:STANDARD
TZOFFSETFROM:+0200
TZOFFSETTO:+0100
TZNAME:CET
DTSTART:20231029T010000
END:STANDARD
BEGIN:DAYLIGHT
TZOFFSETFROM:+0100
TZOFFSETTO:+0200
TZNAME:CEST
DTSTART:20240331T010000
END:DAYLIGHT
BEGIN:STANDARD
TZOFFSETFROM:+0200
TZOFFSETTO:+0100
TZNAME:CET
DTSTART:20241027T010000
END:STANDARD
BEGIN:DAYLIGHT
TZOFFSETFROM:+0100
TZOFFSETTO:+0200
TZNAME:CEST
DTSTART:20250330T010000
END:DAYLIGHT
BEGIN:STANDARD
TZOFFSETFROM:+0200
TZOFFSETTO:+0100
TZNAME:CET
DTSTART:20251026T010000
END:STANDARD
END:VTIMEZONE
BEGIN:VEVENT
DTSTART;TZID=Europe/Stockholm:20240518T090000
DTEND;TZID=Europe/Stockholm:20240518T160000
DTSTAMP:20260420T084316
CREATED:20240222T205534Z
LAST-MODIFIED:20240222T205534Z
UID:2451-1716022800-1716048000@www.classicsuzuki.com
SUMMARY:Bike 80's Revival Classic day
DESCRIPTION:Bike 80’s Revival presenterar för andra året Classic Day\, en dag fylld med allt från äldre veteranhojar\, ombyggt\, choppers mm till 90-talets färgglada plastraketer. Hojlördag ihop med Classic Day innebär att ALLA bikers är välkomna oavsett år och modell.\nEfter 2023 och den enorma uppslutningen på över 1000 hojar kommer vi dubbla ytorna för både Hojlördag och Classic Day.\nI samband med Classic Day uppmärksammar vi särskilt 80-talshojarna\, kraftpaket som med sin stilrena design och enkla råhet tilltalar förare såväl som åskådare.\nUnder dagen kan ni njuta av härligt umgänge\, klassiska och ikoniska hojar\, nygrillat och fika. Allt i trivsam miljö vid Tykarpsgrottan.\nHojlördag & Classic Day är ett samarbete mellan Bike 80’s revival och Tykarpsgrottan\, Hässleholm.\nVarmt välkomna!\nBRA ATT VETA\nNär: 18/5 2024\, Insläpp ifrån kl 09.00 Avslut 16.00\nGrupper som vill stå samlade kommer tidigt!\nVar: Tykarpsgrottan\, Hässleholm.\nIngen föranmälan krävs\, deltagandet är kostnadsfritt.\nBilar parkerar på separat parkering.\nMat\, dryck och fika finns till försäljning.\nPublikt evenemang med fri entré (gäller ej gruvan).\nInfo: Magnus Engman\nmagnusengman@live.se
URL:https://www.classicsuzuki.com/wp/event/bike-80s-revival-classic-day/
LOCATION:Tykarpsgrottan\, Tykarp 7137C\, Hässleholm\, 28192\, Sverige
ORGANIZER;CN="Magnus Engman":MAILTO:magnusengman@live.se
END:VEVENT
END:VCALENDAR